BEGIN:VCALENDAR
VERSION:2.0
PRODID:-//Coldstream Community Council//Meeting Calendar//EN
CALSCALE:GREGORIAN
METHOD:PUBLISH
BEGIN:VEVENT
UID:70313-20220120@coldstreamcommunitycouncil.gov.uk
DTSTAMP:20260421T032256Z
DTSTART;VALUE=DATE:20220120
DTEND;VALUE=DATE:20220121
SUMMARY:Council Meeting &#8211\\; January 2022
DESCRIPTION:Full Council Meeting\nView details: https://coldstreamcommunitycouncil.gov.uk/meetings/january-2022/
URL:https://coldstreamcommunitycouncil.gov.uk/meetings/january-2022/
END:VEVENT
END:VCALENDAR
