BEGIN:VCALENDAR
VERSION:2.0
PRODID:-//Coldstream Community Council//Meeting Calendar//EN
CALSCALE:GREGORIAN
METHOD:PUBLISH
BEGIN:VEVENT
UID:70310-20220217@coldstreamcommunitycouncil.gov.uk
DTSTAMP:20260420T220445Z
DTSTART;VALUE=DATE:20220217
DTEND;VALUE=DATE:20220218
SUMMARY:Council Meeting &#8211\\; February 2022
DESCRIPTION:Full Council Meeting\nView details: https://coldstreamcommunitycouncil.gov.uk/meetings/february-2022/
URL:https://coldstreamcommunitycouncil.gov.uk/meetings/february-2022/
END:VEVENT
END:VCALENDAR
