BEGIN:VCALENDAR
VERSION:2.0
PRODID:-//Coldstream Community Council//Meeting Calendar//EN
CALSCALE:GREGORIAN
METHOD:PUBLISH
BEGIN:VEVENT
UID:70307-20220317@coldstreamcommunitycouncil.gov.uk
DTSTAMP:20260420T130623Z
DTSTART;VALUE=DATE:20220317
DTEND;VALUE=DATE:20220318
SUMMARY:Council Meeting &#8211\\; March 2022
DESCRIPTION:Full Council Meeting\nView details: https://coldstreamcommunitycouncil.gov.uk/meetings/march-2022/
URL:https://coldstreamcommunitycouncil.gov.uk/meetings/march-2022/
END:VEVENT
END:VCALENDAR
